{
 "currentVersion": 10.91,
 "serviceDescription": "Images/Tip_Map_1974_HighRes",
 "name": "Images/Tip_Map_1974_HighRes",
 "description": "",
 "extent": {
  "xmin": 510689.6344969376,
  "ymin": 5414717.772694332,
  "xmax": 512448.5440221483,
  "ymax": 5416225.953283638,
  "spatialReference": {
   "wkid": 28355,
   "latestWkid": 28355
  }
 },
 "initialExtent": {
  "xmin": 510689.6344969376,
  "ymin": 5414717.772694332,
  "xmax": 512448.5440221483,
  "ymax": 5416225.953283638,
  "spatialReference": {
   "wkid": 28355,
   "latestWkid": 28355
  }
 },
 "fullExtent": {
  "xmin": 510689.6344969376,
  "ymin": 5414717.772694332,
  "xmax": 512448.5440221483,
  "ymax": 5416225.953283638,
  "spatialReference": {
   "wkid": 28355,
   "latestWkid": 28355
  }
 },
 "hasMultidimensions": false,
 "pixelSizeX": 0.13071563058937857,
 "pixelSizeY": 0.1581731084746899,
 "datasetFormat": "JP2",
 "uncompressedSize": 384908880,
 "blockWidth": 256,
 "blockHeight": 256,
 "compressionType": "JPEG2000",
 "bandNames": [
  "Band_1",
  "Band_2",
  "Band_3"
 ],
 "allowCopy": true,
 "allowAnalysis": true,
 "bandCount": 3,
 "pixelType": "U8",
 "minPixelSize": 0,
 "maxPixelSize": 0,
 "copyrightText": "",
 "serviceDataType": "esriImageServiceDataTypeRGB",
 "serviceSourceType": "esriImageServiceSourceTypeDataset",
 "minValues": [
  0,
  0,
  0
 ],
 "maxValues": [
  255,
  255,
  255
 ],
 "meanValues": [
  248.03174526138,
  248.03174526138,
  248.03174526138
 ],
 "stdvValues": [
  38.728225823326,
  38.728225823326,
  38.728225823326
 ],
 "objectIdField": "",
 "fields": [],
 "capabilities": "Image,Metadata,Mensuration",
 "defaultMosaicMethod": "Center",
 "allowedMosaicMethods": "",
 "sortField": "",
 "sortValue": null,
 "sortAscending": true,
 "mosaicOperator": "First",
 "defaultCompressionQuality": 75,
 "defaultResamplingMethod": "Bilinear",
 "maxImageHeight": 4100,
 "maxImageWidth": 15000,
 "allowRasterFunction": true,
 "rasterFunctionInfos": [
  {
   "name": "None",
   "description": "",
   "help": ""
  }
 ],
 "rasterTypeInfos": [
  {
   "name": "Raster Dataset",
   "description": "Supports all ArcGIS Raster Datasets",
   "help": ""
  }
 ],
 "mensurationCapabilities": "Basic",
 "hasHistograms": true,
 "hasColormap": false,
 "hasRasterAttributeTable": false,
 "minScale": 0,
 "maxScale": 0,
 "exportTilesAllowed": false,
 "supportsStatistics": false,
 "supportsAdvancedQueries": false,
 "editFieldsInfo": null,
 "ownershipBasedAccessControlForRasters": null,
 "allowComputeTiePoints": false,
 "useStandardizedQueries": true,
 "advancedQueryCapabilities": {
  "useStandardizedQueries": true,
  "supportsStatistics": false,
  "supportsOrderBy": false,
  "supportsDistinct": false,
  "supportsPagination": false
 },
 "spatialReference": {
  "wkid": 28355,
  "latestWkid": 28355
 }
}
