View In:
ArcGIS JavaScript
ArcGIS Online Map Viewer
ArcGIS Earth
ArcMap
ArcGIS Pro
View Footprint In:
ArcGIS Online Map Viewer
Service Description: Aerial imagery of the Launceston Urban Area was captured at 10cm resolution by Airtech Australia using Icaros / Airtech system on the 9th December 2011. You acknowledge that the data cannot be guaranteed as entirely current and error or omission free. A site inspection and investigation is recommended before commencement of any project based on this data.
Map Name: Layers
Legend
All Layers and Tables
Dynamic Legend
Dynamic All Layers
Layers:
Description:
Copyright Text: (c) Launceston City Council 2017
Spatial Reference:
102100
(3857)
Single Fused Map Cache: true
Tile Info:
- Height: 256
- Width: 256
- DPI: 96
-
Levels of Detail: 21
-
Level ID: 0
[ Start Tile, End Tile ]
- Resolution: 156543.03392800014
- Scale: 5.91657527591555E8
-
Level ID: 1
[ Start Tile, End Tile ]
- Resolution: 78271.51696399994
- Scale: 2.95828763795777E8
-
Level ID: 2
[ Start Tile, End Tile ]
- Resolution: 39135.75848200009
- Scale: 1.47914381897889E8
-
Level ID: 3
[ Start Tile, End Tile ]
- Resolution: 19567.87924099992
- Scale: 7.3957190948944E7
-
Level ID: 4
[ Start Tile, End Tile ]
- Resolution: 9783.93962049996
- Scale: 3.6978595474472E7
-
Level ID: 5
[ Start Tile, End Tile ]
- Resolution: 4891.96981024998
- Scale: 1.8489297737236E7
- Format: MIXED
- Compression Quality: 75.0
- Origin: X: -2.0037508342787E7
Y: 2.0037508342787E7
- Spatial Reference: 102100
(3857)
Initial Extent:
XMin: 1.6368100130709214E7
YMin: -5080250.087847672
XMax: 1.6391012129937666E7
YMax: -5067714.415208921
Spatial Reference: 102100
Full Extent:
XMin: 1.6370947410012834E7
YMin: -5083680.199491965
XMax: 1.6388164850634046E7
YMax: -5069711.332572868
Spatial Reference: 102100
Units: esriMeters
Supported Image Format Types: PNG32,PNG24,PNG,JPG,DIB,TIFF,EMF,PS,PDF,GIF,SVG,SVGZ,BMP
Document Info:
Title:
Author:
Comments: Aerial imagery of the Launceston Urban Area was captured at 10cm resolution by Airtech Australia using Icaros / Airtech system on the 9th December 2011. You acknowledge that the data cannot be guaranteed as entirely current and error or omission free. A site inspection and investigation is recommended before commencement of any project based on this data.
Subject: Aerial imagery of the Launceston Urban Area was captured at 10cm resolution by Airtech Australia using Icaros / Airtech system on the 9th Dec 2011
Category:
Keywords: launceston, aerial photography, orthophoto, tasmania, australia
AntialiasingMode: None
TextAntialiasingMode: Force
Supports Dynamic Layers: true
MaxRecordCount: 1000
MaxImageHeight: 4096
MaxImageWidth: 4096
Supported Query Formats: JSON, geoJSON
Supports Query Data Elements:
Min Scale: 5.91657527591555E8
Max Scale: 564.24858825
Supports Datum Transformation: true
Child Resources:
Info
Dynamic Layer
Supported Operations:
Export Map
Identify
QueryLegends
QueryDomains
Find
EstimateExportTilesSize
ExportTiles
Return Updates