View In:
ArcGIS JavaScript
ArcGIS Online Map Viewer
ArcGIS Earth
ArcMap
View Footprint In:
ArcGIS Online Map Viewer
Service Description: Images/Tip_Map_1974_HighRes
Name: Images/Tip_Map_1974_HighRes
Description:
Single Fused Map Cache: false
Extent:
XMin: 510689.6344969376
YMin: 5414717.772694332
XMax: 512448.5440221483
YMax: 5416225.953283638
Spatial Reference: 28355
(28355)
Initial Extent:
XMin: 510689.6344969376
YMin: 5414717.772694332
XMax: 512448.5440221483
YMax: 5416225.953283638
Spatial Reference: 28355
(28355)
Full Extent:
XMin: 510689.6344969376
YMin: 5414717.772694332
XMax: 512448.5440221483
YMax: 5416225.953283638
Spatial Reference: 28355
(28355)
Pixel Size X: 0.13071563058937857
Pixel Size Y: 0.1581731084746899
Band Count: 3
Pixel Type: U8
RasterFunction Infos: {"rasterFunctionInfos": [{
"name": "None",
"description": "",
"help": ""
}]}
Mensuration Capabilities: Basic
Has Histograms: true
Has Colormap: false
Has Multi Dimensions : false
Rendering Rule:
Min Scale: 0
Max Scale: 0
Copyright Text:
Service Data Type: esriImageServiceDataTypeRGB
Min Values: 0, 0, 0
Max Values: 255, 255, 255
Mean Values: 248.03174526138, 248.03174526138, 248.03174526138
Standard Deviation Values: 38.728225823326, 38.728225823326, 38.728225823326
Object ID Field:
Fields:
None
Default Mosaic Method: Center
Allowed Mosaic Methods:
SortField:
SortValue: null
Mosaic Operator: First
Default Compression Quality: 75
Default Resampling Method: Bilinear
Max Record Count: null
Max Image Height: 4100
Max Image Width: 15000
Max Download Image Count: null
Max Mosaic Image Count: null
Allow Raster Function: true
Allow Copy: true
Allow Analysis: true
Allow Compute TiePoints: false
Supports Statistics: false
Supports Advanced Queries: false
Use StandardizedQueries: true
Raster Type Infos:
Name: Raster Dataset
Description: Supports all ArcGIS Raster Datasets
Help:
Has Raster Attribute Table: false
Edit Fields Info: null
Ownership Based AccessControl For Rasters: null
Child Resources:
Info
Histograms
Statistics
Key Properties
Legend
Raster Function Infos
Supported Operations:
Export Image
Identify
Measure
Compute Histograms
Compute Statistics Histograms
Get Samples
Compute Class Statistics
Query Boundary
Compute Pixel Location
Compute Angles
Validate
Project